BEGIN:VCALENDAR
VERSION:2.0
PRODID:-//hacksw/handcal//NONSGML v1.0//EN
BEGIN:VEVENT
SUMMARY:Seance Fit & Ping N°7
UID:6c277721-8c44-4877-a1f2-1d0bc1066ac9
DTSTART:20260502T090000Z
DTEND:20260502T101500Z
LOCATION:Localisation   
CATEGORIES:Sportif
STATUS:
DESCRIPTION:<p>Le Tennis de table de Cusset organise cette saison des
 seances Fit & Ping a destination du public feminin mais pas que
 !</p>
 
 <p>La septieme seance de l'annee se deroulera le
 <strong>samedi 2 mai</strong> de <strong>11h a 12h15</strong> dans
 notre salle specifique de tennis de table a la maison des sports de
 Cusset.</p>
 
 <p>Le Fit & Ping c'est une activite qui allie fitness et
 tennis de table. Venez vous amusez, apprendre, vous depensez dans une
 ambiance chaleureuse et bienveillante ! </p>
 
 <p><strong>Tarifs &
 Inscriptions : </strong></p>
 
 <ul>
 	<li>1 seance offerte a chaque
 participante</li>
 	<li>Licenciee au club : GRATUIT</li>
 	<li>1 cours
 de Fit & Ping a la carte : 8 €</li>
 	<li><span
 style="color:#16a085;"><strong>Si tu ramenes une copine, une amie ou
 un membre de ta famille a la seance, la seance est de nouveau offerte
 !</strong></span></li>
 </ul>
 
 <p>Pense a t'inscrire via Hello Asso
 (pour qu'on prepare la seance au mieux) : <a
 href="https://www.helloasso.com/associations/tennis-de-table-de-cusset/evenements/fit-et-ping-samedi-4-octobre-2025"
 target="_blank" rel="noreferrer noopener">en cliquant ici</a></p>
URL;VALUE=URI:https://www.ttcusset.com/evenements/2026/05/02/seance-fit-ping-n7-2444168
END:VEVENT
END:VCALENDAR
