BEGIN:VCALENDAR
VERSION:2.0
PRODID:-//hacksw/handcal//NONSGML v1.0//EN
BEGIN:VEVENT
SUMMARY:Championnat jeunes - Match'Ping
UID:c7b187fc-6dc0-4c3b-9c18-7a1f8a94ed0c
DTSTART:20260419T070000Z
DTEND:20260419T220000Z
LOCATION:Localisation Salle des Sports - Bd Jean Bignon 03160 Bourbon L'Archambault
CATEGORIES:Sportif
STATUS:
DESCRIPTION:<p>Le quatrieme tour du championnat jeunes - Match'Ping,
 competition reservee aux jeunes debutants - se deroulera le
 <strong>dimanche 19 avril </strong>a Bourbon. Vous trouverez toutes
 les informations dans la convocation
 ci-dessous.</p>
 
 <p><u><strong>Pointage :</strong></u>
 9h</p>
 
 <p><u><strong>Debut de la competition :</strong></u>
 9h30</p>
 
 <p><a
 href="https://www.cd03tt.com/document-download/69c16159592d8_ConvocationChampJeunesAllierTour4Matchping26.pdf"
 target="_blank" rel="noreferrer noopener">- La
 convocation</a></p>
 
 <p><span style="color:#c0392b;"><strong>Reponse
 imperative avant le lundi 13 avril (meme en cas de
 non-participation).</strong></span></p>
 
 <p><span
 style="color:#c0392b;"><strong>Prevoir la tenue du club (si vous
 l'avez) et sa raquette. T-shirt blanc interdit.</strong></span></p>
URL;VALUE=URI:https://www.ttcusset.com/evenements/2026/04/19/championnat-jeunes-matchping-2434745
END:VEVENT
END:VCALENDAR
